Workbook
Name Jos_saat_jäteraportin_tämän_kirjanpito_sivun_mukaiset_tiedot_jätehuollon_palveluntarjoajaltasi__ei_tarvitse_täyttää_tätä.: [1]Taul1!$B$8:$XFD$8
Name Jätelain_uudistus_edellyttää_tarkempaa_jätekirjanpitoa_toiminnanharjoittajalta__yrittäjältä___kun: [1]Taul1!$B$4:$XFD$8
Name toiminnassa__joka_on_ympäristösuojelain_mukaan_ilmoituksenvaraista: [1]Taul1!$B$6:$XFD$6
Name toiminnassa__syntyy_vuodessa_vähintää_100_tonnia_jätettä: [1]Taul1!$B$5:$XFD$5
Name toiminnassa_syntyy_vaarallista_jätettä_tai_POP_jätettä: [1]Taul1!$B$4:$XFD$4

Sheet A. Ohje
A1: Päivitetty versio 21.9.2026. Korjaukset ja puutuotealan lisäykset: Vixte Oy (Viivi Kettula), www.vixte.fi
A2: Puutuotealan ympäristömittarit
A5: Tämä työkalu on tarkoitettu puuteollisuuden ympäristövaikutusten mittaamisen, seurannan ja raportoinnin avuksi. Työkalun avulla voit laskea sekä koota muista lähteistä keskeisiä
A6: ympäristövaikutuksia kuvaavia mittaritietoja. Mittaritiedot auttavat seuraamaan ja kehittämään yritysten ympäristövastuullisuutta sekä viestimään siitä esimerkiksi asiakkaille.
A7: Ennen mittaritietojen laskemista suosittelemme tutustumaan erilliseen Ympäristömittareiden tausta-aineistoon ja laskentaohjeeseen.
A11: Välilehdelle B kootaan yhteenveto mittaritiedoista. Osan mittareista voit saada suoraan esim. palveluntarjoajilta ja osan mittaritiedoista voit laskea tämän taulukon välilehdillä.
A12: Taulukkoon kannattaa kirjata ylös, mistä tai miten mittaritieto on saatu, jotta seuraavan vuoden tietojen kokoaminen on helpompaa ja tiedot ovat vertailukelpoiset.
A13: Varmista, että syötät tiedot oikeassa muodossa eli kysytäänkö massaa kiloina (kg) vai tonneina (t), tai energiankulutusta kilowattitunteina (kWh) vai megawattitunteina (MWh).
A14: Osa taulukosta on lukittu ja voit syöttää tietoja vain lukitsemattomiin ruutuihin. Kulutus- ja muut lähtötiedot syötetään keltaisiin soluihin ja mittaritiedot koostuvat
A15: automaattisesti syötettyjen tietojen perusteella vaaleanpunaisiin soluihin.
A18: Hiilijalanjälkilaskennassa tiedot syötetään välilehdelle C (scope 1 ja 2) ja E (scope 3) ja tulokset muodostuvat välilehdille D (scope 1 ja 2) ja F (scope 3)
A20: Taulukon välilehtien sisällöt
... A74: Teräksen oletuskerroin 2600 kgCO2e/t (Ruukki 2021) ja hitsauslangan/suojakaasun rivit ovat konepajaperua.

Sheet B. Yhteenveto
A1: Yrityksen perustiedot ja mittaritietojen yhteenveto
A4: Tälle sivulle syötetään yrityksen perustiedot sekä kootaan yhteenveto ympäristömittaritiedoista.
A7: Perustiedot
A8: Yrityksen nimi
A9: Yrityksen lyhyt kuvaus
A10: Laskennan ja tarkastelun rajaus
A11: Tietojen täyttäjä
A12: Tarkasteluvuosi
A13: Liikevaihto | C13: €/a
A14: Henkilötyövuosi | C14: htv
A15: Henkilötyötuntimäärä | C15: h
A16: Lämmitettävät tilat | C16: m2
A17: Lämmitysmuoto
A19: Ympäristömittarit
C20: Yksikkö | D20: Mistä tieto saatu (esim. palveluntarjoaja, laskettu itse) | E20: Ohje
A21: Hiilijalanjälki scope 1 | B21: =D.!B19 -> 0 | C21: kgCO2ekv | E21: Hiilijalanjäljen scope 1 & 2 voi laskea syöttämällä lähtötiedot välilehdelle C ja saat tuloksen välilehdelle D.
A22: Hiilijalanjälki scope 2 | B22: =D.!B26 -> 0 | C22: kgCO2ekv
A23: Hiilijalanjälki scope 1&2 | B23: =D.!B29 -> 0 | C23: tCO2ekv
A24: Hiilijalanjälki scope 1&2 suhteessa liikevaihtoon | B24: =IFERROR((1000000*B23)/B13,"") | C24: kgCO2ekv /1000 € | E24: Hiilijalanjälki jaettuna yrityksen liikevaihdolla. Yksikkönä kg/1000 €
A25: Hiilijalanjälki scope 3 | B25: =F.!B19 -> 0 | C25: tCO2ekv | E25: Hiilijalanjäljen scope 3 voit arvioida syöttämällä lähtötiedot välilehdelle E ja saat tuloksen välilehdelle F.
A26: Hiilijalanjälki, scope 3 suhteessa liikevaihtoon | B26: =IFERROR((1000000*B25)/B13,"") | C26: kgCO2ekv /1000€ | E26: Hiilijalanjälki jaettuna yrityksen liikevaihdolla. Yksikkönä kg/1000 €
A27: Sähköenergiankulutus | B27: ='C.'!B24+G.!B16 -> 0 | C27: MWh | E27: Tähän sisältyy sekä ostosähkö että mahdollinen oma sähköntuotanto
A28: Kaukolämpöenergiankulutus | B28: ='C.'!B39 -> 0 | C28: MWh | E28: Kulutustieto saadaan suoraan välilehdeltä C.
A29: Kaukojäähdytys | B29: ='C.'!B54 -> 0 | C29: MWh | E29: Kulutustieto saadaan suoraan välilehdeltä C.
A30: Polttoaineiden kulutus energiana | B30: ='C.'!C72 -> 0 | C30: MWh | E30: Kulutustieto saadaan suoraan välilehdeltä C.
A31: Kokonaisenergiankulutus | B31: =B27+B28+B29+B30 -> 0 | C31: MWh
A32: Uusiutuvan energian osuus sähkönkulutuksesta | B32: =IFERROR(('C.'!C37+G.!B16)/('C.'!B24+G.!B16)*100,"") | C32: % | E32: Uusiutuvan energian osuus saadaan suoraan välilehdeltä C
A33: Uusiutuvan energian osuus kaukolämmön kulutuksesta | B33: =IFERROR('C.'!C52/'C.'!B39*100,"") | C33: % | E33: Uusiutuvan energian osuus saadaan suoraan välilehdeltä C
A34: Uusiutuvan energian osuus polttoaineiden kulutuksesta | B34: =IFERROR('C.'!D72/'C.'!C72*100,"") | C34: %
A35: Uusiutuvan energian osuus kokonaisenergiankulutuksesta | B35: =IFERROR(('C.'!C37+G.!B16+G.!B19+'C.'!C52+'C.'!D72)/(B27+B28+B29+B30+G.!B19)*100,"") | C35: % | E35: Kaikki uusiutuvan energian käyttö jaettuna kokonaisenergiankulutuksella.
A36: Hukkaosuus, musta teräs | B36: =H.!B13 | C36: % | E36: Hukkaosuuden voit laskea välilehdellä H.
A37: Hukkaosuus, kirkas teräs | B37: =H.!B20 | C37: % | E37: Hukkaosuuden voit laskea välilehdellä H.
A38: Hukkaosuus, muut metallit | B38: =H.!B27 | C38: % | E38: Hukkaosuuden voit laskea välilehdellä H.
A39: Puumateriaalin hukkaosuus | B39: =H.!B50 | C39: % | E39: Puuraaka-aineen hukkaosuuden voit laskea välilehdellä H (kohta "Puumateriaalin hukkaosuus").
A40: Lajitteluaste | B40: =J.!B38 | C40: % | E40: Useilta jätehuollon palveluntarjoajalta saat suoraan tiedon yrityksesi lajitteluasteesta. Mikäli tietoa ei saa, voit laskea sen välilehdellä J.
A41: Kierrätysaste | C41: % | E41: Useilta jätehuollon palveluntarjoajalta saat suoraan tiedon yrityksesi kierrätysasteesta.
A42: Hyötykäyttöaste | C42: % | E42: Useilta jätehuollon palveluntarjoajalta saat suoraan tiedon yrityksesi hyötykäyttöasteesta.
A43: Jätteiden kokonaismäärä t/a | B43: =J.!B37 -> 0 | C43: t | E43: Useilta jätehuollon palveluntarjoajalta saat suoraan tiedon yrityksesi kokonaisjätemäärästä. Mikäli lasket lajitteluasteen itse, saat laskettua myös jätteiden kokonaismäärän välilehdellä J.
A44: Jätteiden kokonaismäärä suhteessa liikevaihtoon | B44: =IFERROR((1000000*B43)/B13,"") | C44: kg/1000€ | E44: Kokonaisjätemäärä jaettuna yrityksen liikevaihdolla. Yksikkönä kg/1000 €
A45: VOC-päästöt | B45: =I.!F21 -> 0 | C45: kg | E45: Useilta kemikaalitoimittajilta saat suoraan tiedon yrityksesi VOC-päästöistä hankittujen kemikaalien osalta. Vaihtoehtoisesti voit laskea VOC-päästöt välilehdellä I.
A46: Vedenkulutus | C46: m3 | E46: Tiedon vedenkulutuksesta saa yleensä suoraan vesilaskusta tai tiedustelemalla veden toimittajalta.
A48: Pakkausmateriaalin käyttömäärät
A49: Syötä nämä tiedot, mikäli yritys kuuluu pakkausten osalta tuottajavastuun piiriin.
C50: Yksikkö | D50: Mistä tieto saatu (esim. palveluntarjoaja, laskettu itse)
A51: Paperikuidut (ml. Pahvi-, paperi- ja kartonkipakkaukset) | C51: t
A52: Muovi | C52: t
A53: Metallit | C53: t
A54: Puu | C54: t
A55: Muut | C55: t
A57: Muita ympäristömittareita
C58: Yksikkö | D58: Mistä tieto saatu (esim. palveluntarjoaja, laskettu itse) | E58: Ohje
A59: Uusiutuvilla energianlähteillä itse tuotettu sähkö | B59: =G.!B16 -> 0 | C59: MWh | E59: Tämä tieto poimitaan välilehdeltä G.
A60: Omalla sähköntuotannolla saavutettu päästövähennys (scope 2) | B60: =G.!D16 -> 0 | C60: kgCO2ekv | E60: Päästövähennyksen voit laskea välilehdellä G.
A61: Omalla lämmöntuotannolla saavutettu päästövähennys (scope 2) | B61: =G.!D19 -> 0
A62: Työmatkapyöräilyn tukemisella saavutettu päästövähennys (scope 3) | B62: =G.!D27 -> 0 | C62: kgCO2ekv | E62: Päästövähennyksen voit laskea välilehdellä G.
A63: Levymateriaalien hukkaosuus | B63: =H.!B58 | C63: % | E63: Levyhukan voit laskea välilehdellä H. Puusepänteollisuudessa tämä on usein tärkein materiaalimittari.
A64: Puutuotteisiin sitoutunut hiili (hiilivarasto) | B64: =L.!B20 -> 0 | C64: tCO2 | E64: Laskenta välilehdellä L. HUOM: hiilivarastoa EI vähennetä scope 1–3 päästöistä, vaan se raportoidaan erillisenä lukuna.
A65: Oma mittari
A67: Tuotantoprosessit (taustatieto)
A68: Nämä eivät ole varsinaisia ympäristömittareita, mutta taustatiedot auttavat tulkitsemaan mittarilukuja (esimerkiksi hiilijalanjälkeä tai hukkaosuutta) ja vertaamaan yritystä muihin saman toimialan yrityksiin.
A69: Sahaus ja katkaisu
A70: Kuinka suuri osuus raaka-aineesta tulee valmiiksi mitallistettuna tai määrämittaan sahattuna (%)
A71: Kuivaus omassa kuivaamossa
A72: Höyläys ja koneistus (CNC)
A73: Liimaus ja puristus
A74: Pintakäsittely (maalaus, lakkaus, petsaus, öljyäminen)
A75: Kokoonpano ja pakkaus

Sheet C.
A1: Polttoaineiden ja ostoenergian kulutustiedot
A4: Tälle sivulle syötetään tiedot yrityksen toiminnassa tarkasteluvuoden aikana käytetystä polttoaineesta sekä ostetusta sähkö- ja lämpöenergiasta.
A5: Näiden tietojen pohjalta saadaan laskettua yrityksen hiilijalanjälki scope 1 ja 2 osalta.
A6: Varmista, että syötät tiedot taulukkoon oikeassa muodossa (esim. MWh)
A9: Scope 1 Polttoaineiden kulutus (oma energiantuotanto ja ajoneuvot)
A10: Polttoaine | B10: Kulutus l/a | C10: Mistä kulutustieto on saatu? Onko kyseessä tarkka tieto vai arvio?
A11: Kevyt polttoöljy (l)
A12: Dieselöljy (l)
A13: Bensiini (l)
A14: Uusiutuva kevyt polttoöljy (l)
A15: Uusiutuva diesel (l)
A16: Polttoaine | B16: Kulutus kg/a
A17: Nesteytetty maakaasu (LNG) (kg)
A18: Nestekaasu (propaani) (kg)
A19: Nestekaasu (LPG, propaanin ja butaanin seos) (kg)
A20: Puupohjainen polttoaine, esim. hake (i-m3)
A22: Scope 2 Ostettu sähkö ja lämpö
A23: Sähkönkulutus | B23: MWh/a | C23: Mistä kulutustieto on saatu? Onko kyseessä tarkka tieto vai arvio?
A24: Ostosähkönkulutus yhteensä (MWh)
A25: Sähköntoimittajan ilmoittama päästökerroin (kgCO2ekv/MWh) | D25: Jos jätät tämän tyhjäksi, laskenta käyttää automaattisesti Suomen keskiarvoa (38 kgCO2e/MWh). Tarkin luku on sähköntoimittajan oma, jäännösjakaumaan perustuva kerroin.
A26: Sähköntuotannon jakautuminen energialähteittäin | B26: % | C26: Osuus kulutetun sähkön tuotannosta (MWh)
A27: Aurinkosähkö, tuulivoima tai vesivoima | C27: =(B27/100)*B24 -> 0
A28: Puuperäiset polttoaineet | C28: =(B28/100)*B24 -> 0
A29: Muut biopohjaiset polttoaineet (esim. biokaasu) | C29: =(B29/100)*B24 -> 0
A30: Muu uusiutuva | C30: =(B30/100)*B24 -> 0
A31: Ydinvoima | C31: =(B31/100)*B24 -> 0
A32: Maakaasu | C32: =(B32/100)*B24 -> 0
A33: Kivihiili, maakaasu tai turve | C33: =(B33/100)*B24 -> 0
A34: Kevyt tai raskas polttoöljy | C34: =(B34/100)*B24 -> 0
A35: Muu uusiutumaton | C35: =(B35/100)*B24 -> 0
A36: Yhteensä: | B36: =SUM(B27:B35) -> 0 | C36: =(B36/100)*B24 -> 0
A37: Uusiutuvan energian osuus sähkönkulutuksesta % | B37: =B27+B28+B29+B30 -> 0 | C37: =(B37/100)*B24 -> 0
A38: Ostolämmönkulutus | B38: MWh/a | C38: Mistä kulutustieto on saatu? Onko kyseessä tarkka tieto vai arvio?
A39: Kaukolämmönkulutus yhteensä (MWh)
A40: Kaukolämpötoimittajan ilmoittama päästökerroin (kgCO2ekv/MWh) (HUOM! Valitse energiamenetelmällä laskettu päästökerroin) | D40: Jos jätät tämän tyhjäksi, laskenta käyttää automaattisesti Suomen keskiarvoa (110 kgCO2e/MWh). Pyydä toimittajalta energiamenetelmällä laskettu kerroin.
A41: Kaukolämmöntuotannon jakautuminen energialähteittäin | B41: % | C41: Osuus kulutetun lämmön tuotannosta (MWh)
A42: Puuperäiset polttoaineet | C42: =(B42/100)*B39 -> 0
A43: Muut biopohjaiset polttoaineet (esim. biokaasu) | C43: =(B43/100)*B39 -> 0
A44: Hukkalämpö | C44: =(B44/100)*B39 -> 0
A45: Maakaasu | C45: =(B45/100)*B39 -> 0
A46: Muu uusiutuva | C46: =(B46/100)*B39 -> 0
A47: Yhdyskuntajäte | C47: =(B47/100)*B39 -> 0
A48: Kivihiili, maakaasu tai turve | C48: =(B48/100)*B39 -> 0
A49: Kevyt tai raskas polttoöljy | C49: =(B49/100)*B39 -> 0
A50: Muu uusiutumaton | C50: =(B50/100)*B39 -> 0
A51: Yhteensä: | B51: =SUM(B42:B50) -> 0
A52: Uusiutuvan energian osuus kaukolämmönkulutuksesta % | B52: =B42+B43+(0.5*B47)+B44+B46 -> 0 | C52: =(B52/100)*B39 -> 0
A53: Kaukojäähdytys | B53: MWh/a | C53: Mistä kulutustieto on saatu? Onko kyseessä tarkka tieto vai arvio?
A54: Jäähdytyksen kulutus
A55: Jäähdytyksen toimittajan ilmoittama päästökerroin (kgCO2ekv/MWh)
A56: Yhteensä:
A59: Alla olevassa taulukossa polttoaineiden kulutus on muunnettu MWh:ksi, jotta saadaan selville kokonaisenergiankulutus MWh:na.
A61: Polttoaine | B61: Kulutus l/a | C61: MWh | D61: Uusiutuvan energian osuus MWh
A62: Kevyt polttoöljy (l) | B62: =B11 -> 0 | C62: =(43.2*0.834*(B62/1000))*0.2778 -> 0 | D62: =0.03*C62 -> 0
A63: Dieselöljy (l) | B63: =B12 -> 0 | C63: =(42.8*0.806*(B63/1000))*0.2778 -> 0 | D63: =0.12*C63 -> 0
A64: Bensiini (l) | B64: =B13 -> 0 | C64: =(41.9*0.745*(B64/1000))*0.2778 -> 0 | D64: =0.105*C64 -> 0
A65: Uusiutuva diesel (l) | B65: =B15 -> 0 | C65: =(43.8*0.78*(B65/1000))*0.2778 -> 0 | D65: =C65 -> 0
A66: Uusiutuva kevyt polttoöljy (l) | B66: =B14 -> 0 | C66: =(43.2*0.834*(B66/1000))*0.2778 -> 0 | D66: =C66 -> 0
A67: Polttoaine | B67: Kulutus kg tai m3/a
A68: Nesteytetty maakaasu (LNG) (kg) | B68: =B17 -> 0 | C68: =((49.3*B68)/1000)*0.2778 -> 0 | D68: 0
A69: Nestekaasu (propaani) (kg) | B69: =B18 -> 0 | C69: =((46.3*B69)/1000)*0.2778 -> 0 | D69: 0
A70: Nestekaasu (LPG, propaanin ja butaanin seos) (kg) | B70: =B19 -> 0 | C70: =((46.3*B70)/1000)*0.2778 -> 0 | D70: 0
A71: Puupohjainen polttoaine, esim. hake (i-m3) | B71: =B20 -> 0 | C71: =(9.5*0.3*B71*0.2778) -> 0 | D71: =C71 -> 0
A72: Yhteensä: | C72: =C62+C63+C64+C65+C66+C68+C69+C70+C71 -> 0 | D72: =D62+D63+D64+D65+D66+D68+D69+D70+D71 -> 0
A73: Uusiutuvan energian osuus polttoaineiden kulutuksesta % | D73: =IFERROR(D72/C72,"")

Sheet D.
A1: Yhteenveto hiilijalanjälki scope 1 & 2
A4: Tälle sivulle taulukkoon tulevat yhteenvetona scope 1 ja 2 kasvihuonekaasupäästöt.
A5: Ne lasketaan automaattisesti edelliselle välilehdelle syötettyjen kulutustietojen ja päästökertoimien avulla
A8: Scope 1 Polttoaineiden kulutuksen fossiiliset hiilidioksisipäästöt (HUOM! Päästöissä ei mukana muita polttoaineiden kulutuksesta aiheutuvia kasvihuonekaasupäästöjä ks. Tarkemmat tiedot laskurin käyttö- ja taustaohje)
A9: Polttoaine | B9: Päästöt, kgCO₂ | C9: Osuus Scope 1&2 päästöistä
A10: Kevyt polttoöljy | B10: ='C.'!B11*D.!B78 -> 0 | C10: =IFERROR(B10/B28,"")
A11: Dieselöljy | B11: ='C.'!B12*D.!B79 -> 0 | C11: =IFERROR(B11/B28,"")
A12: Bensiini | B12: ='C.'!B13*D.!B80 -> 0 | C12: =IFERROR(B12/B28,"")
A13: Uusiutuva kevyt polttoöljy (l) | B13: ='C.'!B14*D.!B81 -> 0 | C13: =IFERROR(B13/B28,"")
A14: Uusiutuva diesel | B14: ='C.'!B15*D.!B82 -> 0 | C14: =IFERROR(B14/B28,"")
A15: Nesteytetty maakaasu (LNG) | B15: ='C.'!B17*D.!B83 -> 0 | C15: =IFERROR(B15/B28,"")
A16: Nestekaasu (propaani) | B16: ='C.'!B18*D.!B85 -> 0 | C16: =IFERROR(B16/B28,"")
A17: Nestekaasu (LPG, propaanin ja butaanin seos) | B17: ='C.'!B19*D.!B84 -> 0 | C17: =IFERROR(B17/B28,"")
A18: Puupohjainen polttoaine, esim. hake | B18: ='C.'!B20*D.!B86 -> 0 | C18: =IFERROR(B18/B28,"")
A19: Yhteensä | B19: =SUM(B10:B18) -> 0 | C19: =IFERROR(B19/B28,"")
A21: Scope 2 Ostetun sähkön ja lämmön sekä jäähdytyksen fossiiliset kasvihuonekaasupäästöt (CO2, N2O ja CH4)
A22: Sähkönkulutus | B22: Päästöt, kgCO₂ekv | C22: Osuus Scope 1&2 päästöistä | D22: Käytetty päästökerroin
A23: Sähkö | B23: =IF('C.'!B25="",'C.'!B24*D.!B90,'C.'!B24*'C.'!B25) -> 0 | C23: =IFERROR(B23/B28,"") | D23: =IF('C.'!B25="","Suomen keskiarvo 38 kgCO2e/MWh (syötä toimittajan oma kerroin välilehdelle C)","Sähköntoimittajan oma kerroin") -> Suomen keskiarvo 38 kgCO2e/MWh (syötä toimittajan oma kerroin välilehdelle C)
A24: Kaukolämpö | B24: =IF('C.'!B40="",'C.'!B39*D.!B92,'C.'!B39*'C.'!B40) -> 0 | C24: =IFERROR(B24/B28,"") | D24: =IF('C.'!B40="","Suomen keskiarvo 110 kgCO2e/MWh (syötä toimittajan oma kerroin välilehdelle C)","Kaukolämpötoimittajan oma kerroin") -> Suomen keskiarvo 110 kgCO2e/MWh (syötä toimittajan oma kerroin välilehdelle C)
A25: Kaukojäähdytys | B25: =IF('C.'!B55="",'C.'!B54*D.!B94,'C.'!B54*'C.'!B55) -> 0 | C25: =IFERROR(B25/B28,"") | D25: =IF('C.'!B55="","Oletus 0 kgCO2e/MWh — tarkista toimittajaltasi","Toimittajan oma kerroin") -> Oletus 0 kgCO2e/MWh — tarkista toimittajaltasi
A26: Yhteensä | B26: =SUM(B23:B25) -> 0 | C26: =IFERROR(B26/B28,"")
A28: Hiilijalanjälki yhteensä (scope 1 ja 2) | B28: =B19+B26 -> 0 | C28: kg CO₂ekv
B29: =B28/1000 -> 0 | C29: tonnia CO₂ekv
A32: Hiilijalanjälki (1&2) vastaa…
A33: Bensiini- tai dieselautolla ajettuja kilometrejä | B33: =B28/0.152 -> 0 | C33: km
A34: Keskimääräisen suomalaisen hiilijalanjälkeä | B34: =B28/10300 -> 0 | C34: hlö
A35: Keskimääräisen suomalaisen metsän vuodessa sitomaa hiiltä | B35: =B28/3700 -> 0 | C35: ha
A37: Suomalaisten hiilijalanjälki on keskimäärin 10300 kg (Lähde: Sitra, 2021) Metsän hiilensidonta ha kohti vaihtelee mm. metsän sijainnista, metsätyypistä ja kehitysvaiheesta riippuen. Hiilensidonta keskimäärin on n. 3500-4500 kg CO2ekv vuodessa. Esim. UEF:n Metsätalouden suunnittelun professori Timo Pukkala on arvioinut sidonnan olevan keskimäärin 3700 kg/ha, tätä arviota on käytetty em. laskurissa.
A43: Alla oleva kaaviokuva muodostuu välilehdelle C syötettyjen tietojen perusteella
A76: Päästökertoimet Scope 1
A77: Polttoaineet | B77: CO2 | D77: Lähde | E77: Päivitetty
A78: kevyt polttoöljy, vähärikkinen | B78: 2.44 | C78: kg/l | D78: Tilastokeskus; polttoaineluokitus 2025 | E78: 2.10.2025
A79: dieselöljy | B79: 2.02 | C79: kg/l | D79: Tilastokeskus; polttoaineluokitus 2025 | E79: 2.10.2025
A80: moottoribensiini | B80: 2.25 | C80: kg/l | D80: Tilastokeskus; polttoaineluokitus 2025 | E80: 2.10.2025
A81: uusiutuva kevyt polttoöljy | B81: 0 | C81: kg/l | D81: Neste MY, 2022
A82: uusiutuva diesel | B82: 0 | C82: kg/l | D82: Tilastokeskus, 2021
A83: nestetytetty maakaasu (LNG) | B83: 2.75 | C83: kg/kg | D83: Tilastokeskus; polttoaineluokitus 2025 | E83: 2.10.2025
A84: nestekaasu (LPG) | B84: 3.1 | C84: kg/kg | D84: Tilastokeskus; polttoaineluokitus 2025 | E84: 2.10.2025
A85: nestekaasu, propaani | B85: 3 | C85: kg/kg | D85: Tilastokeskus, 2021 | E85: 2.10.2025
A86: Puupohjainen polttoaine, esim. hake (i-m3) | B86: 0.04 | C86: kg/m3
A88: Päästökertoimet Scope 2
A89: Sähköenergia | B89: CO2ekv | D89: Lähde
A90: Suomen sähköntuotannon keskimääräinen päästökerroin (3 viim. vuoden ka energiamenetelmällä) | B90: 38 | C90: kg/MWh | D90: Tilastokeskus, Energia 2024
A91: Kaukolämpö | B91: CO2ekv | D91: Lähde
A92: Kaukolämpö, Suomen keskimääräinen päästökerroin (3 viim. vuoden ka energiamenetelmällä) | B92: 110 | C92: kg/MWh | D92: Tilastokeskus, Energia 2024
A93: Kaukojäähdytys | B93: CO2ekv | D93: Lähde
A94: Tampereen energian myymä kaukojäähdytys | B94: 0 | C94: kg/MWh | D94: Tampereen Energia, OpenCO2.net 2025

Sheet E.
A1: Epäsuorien päästöjen kulutustiedot
A4: Tälle sivulle syötetään tiedot, joiden avulla voidaan arvioida epäsuoria kasvihuonekaasupäästöjä eli scope 3 päästöjä. Scope 3 sisältää mm. materiaalien, tavaroiden ja
A5: palveluiden hankinnasta syntyneet päästöt. Scope 3:een kuuluu Greenhouse Gas - protokollassa 15 eri kategoriaa, mutta tähän laskuriin on sisällytetty vain ne kategoriat, joiden on arvioitu
A6: Rajaukseen vaikuttaa mm. se, mitä lähtötietoja tai päästökertoimia on saatavilla sekä mitkä ovat yrityksen oman toiminnan kannalta merkittäviä päästölähteitä.
A10: Täytä laskentataulukkoon kulutustiedot pyydetyssä muodossa niiden kategorioiden osalta, jotka on tarpeellista laskea. Laskentataulukon alapuolella löytyvät laskennassa
A11: käytetyt päästökertoimet sekä niiden lähteet. Seuraavalle välilehdelle rakentuu yhteenvetotaulukko ja kuvaaja tämän osion eli scope 3:n tuloksista.
A13: Mikäli tiedossa on tarkat, tuote- tai palvelukohtaiset päästökertoimet esimerkiski tavarantoimittajalta, käytä niitä taulukossa esimerkkikertoimien sijaan.
A16: Scope 3 Päästöt
A17: Kategoria | C17: Päästökerroin | D17: Yksikkö | E17: Hiilijalanjälki kgCO2ekv | F17: Mistä tieto on saatu? Onko tarkka tieto vai arvio? | G17: Huomioita
A18: Materiaalihankinnat
A19: Teräs, keskimääräinen päästökerroin (t) | C19: =B114 -> 2600 | D19: kgCO₂/t | E19: =B19*C19 -> 0
A20: Sahatavara | C20: 80 | D20: kgCO₂/t | E20: =B20*C20 -> 0
A21: Höylätavara | C21: 94 | D21: kgCO₂/t | E21: =B21*C21 -> 0
A22: CLT | C22: 200 | D22: kgCO₂/t | E22: =B22*C22 -> 0
A23: LVL, pilari, palkki ja seinärakenteet | C23: 480 | D23: kgCO₂/t | E23: =B23*C23 -> 0
A24: GLT | C24: 240 | D24: kgCO₂/t | E24: =B24*C24 -> 0
A25: Vaneri, pinnoittamaton koivuvaneri | C25: 620 | D25: kgCO₂/t | E25: =B25*C25 -> 0
A26: Vaneri, pinnoitettu koivuvaneri | C26: 710 | D26: kgCO₂/t | E26: =B26*C26 -> 0
A27: Vaneri, pinnoittamaton havuvaneri | C27: 480 | D27: kgCO₂/t | E27: =B27*C27 -> 0
A28: Vaneri, pinnoitettu havuvaneri | C28: 590 | D28: kgCO₂/t | E28: =B28*C28 -> 0
A29: Lastulevy | C29: 500 | D29: kgCO₂/t | E29: =B29*C29 -> 0
A30: Melamiinilastulevy | C30: 660 | D30: kgCO₂/t | E30: =B30*C30 -> 0
A31: Mdf, kuitulevy | C31: 700 | D31: kgCO₂/t | E31: =B31*C31 -> 0
A32: Mdf, kuitulevy melamiinipinnoitettu | C32: 910 | D32: kgCO₂/t | E32: =B32*C32 -> 0
A33: Tukkipuu | C33: 5 | D33: kgCO₂/m3 | E33: =B33*C33 -> 0 | F33: Arvio, ei epd:tä koska ei lopputuote | G33: A1 vaihe, ilman kuljetusta ja kuivausta
E34: =B34*C34 -> 0
E35: =B35*C35 -> 0
E36: =B36*C36 -> 0
E37: =B37*C37 -> 0
A38: Alumiini (t) | C38: =B133 -> 8300 | D38: kgCO₂/t | E38: =B38*C38 -> 0
A39: Puuhankinnat yhteensä (puu- ja levymateriaalit): | E39: =SUM(E20:E37) -> 0
A40: Lakat | C40: =B136 -> 5.4 | D40: kgCO₂/kg | E40: =B40*C40 -> 0
A41: Maalit | D41: kgCO₂/kg | E41: =B41*C41 -> 0
A42: Ohenteet | D42: kg/Mm3 CO2ekv | E42: =B42*C42 -> 0
A43: Liimat | D43: kgCO₂/kg | E43: =B43*C43 -> 0
A44: Melamiinipinnoitteet | E44: =B44*C44 -> 0
A45: Laminaatti | E45: =B45*C45 -> 0
A46: Reunanauhat | E46: =B46*C46 -> 0
A47: Metallihelat | E47: =B47*C47 -> 0
A48: Muovihelat | E48: =B48*C48 -> 0
A49: Lasi | E49: =B49*C49 -> 0
A50: Vesi (m3) | B50: ='B. Yhteenveto'!B46 -> 0 | C50: =B155 -> 0.499 | D50: kgCO₂/m3 | E50: =B50*C50 -> 0
A51: Muut materiaalihankinnat yhteensä (sis. teräs ja alumiini): | E51: =E19+E38+SUM(E40:E50) -> 0
A52: Rahti, kuljetukset (ilmoita joko tkm tai euroina)
A53: Hankitut rahdit, maantiekuljetukset, tonnikilometreinä (tkm) | C53: =B146 -> 0.077 | D53: kgCO₂/tkm | E53: =B53*C53 -> 0
A54: Hankitut rahdit, oman rahtitoimittajan päästökerroin | D54: kgCO₂/€ | E54: =B54*C54 -> 0
A55: Lentorahti, lyhyet ulkomaan lentorahdit (tkm) | C55: =B143 -> 0.921 | D55: kgCO₂/tkm | E55: =B55*C55 -> 0
A56: Lentorahti, pitkät ulkomaan lentorahdit (tkm) | C56: =B144 -> 0.51 | D56: kgCO₂/tkm | E56: =B56*C56 -> 0
A57: Rahti yhteensä: | E57: =SUM(E53:E56) -> 0
A58: Jätteet (HUOM. Ilmoita määrät tonneina, ei kiloina)
A59: Metallijäte | C59: =B160 -> 24.6 | D59: kgCO₂/t | E59: =B59*C59 -> 0
A60: Pahvi, kartonki | C60: =B165 -> 53.4 | D60: kgCO₂/t | E60: =B60*C60 -> 0
A61: Toimisto- ja keräyspaperi, ml. Tietosuojapaperit | C61: =B166 -> 72.6 | D61: kgCO₂/t | E61: =B61*C61 -> 0
A62: Muovi, materiaalikierrätykseen | C62: =B161 -> 366 | D62: kgCO₂/t | E62: =B62*C62 -> 0
A63: Sekajäte, yhdyskuntajäte | C63: =B158 -> 400 | D63: kgCO₂/t | E63: =B63*C63 -> 0
A64: Lasi | C64: 13.17 | D64: kgCO₂/t | E64: =B64*C64 -> 0
A65: Puujäte | C65: =B159 -> 143 | D65: kgCO₂/t | E65: =B65*C65 -> 0
A66: Biojäte | C66: =B163 -> 56.7 | D66: kgCO₂/t | E66: =B66*C66 -> 0
A67: Vaarallinen jäte (Merkitse tähän kaikki vaaraominaisuuksia sisältävien jätteiden yhteenlaskettu määrä) | C67: =B164 -> 1170 | D67: kgCO₂/t | E67: =B67*C67 -> 0
A68: Muu jäte | C68: 1125 | D68: kgCO₂/t | E68: =B68*C68 -> 0
A69: Palveluntarjoajalta saatu koko yrityksen jätehuollon hiilijalanjälki (HUOM. Yksikkönä kgCO2ekv)
A70: Jätteet yhteensä: | E70: =SUM(E59:E69) -> 0
A71: Työhön liittyvä matkustaminen | B71: km
A72: Henkilöstölle korvatut omalla autolla tehdyt matkat eli maksetut kilometrikorvaukset | C72: =B149 -> 0.1399 | D72: kgCO₂/km | E72: =B72*C72 -> 0
A73: Lentoliikenne, lyhyet lennot alle 463 km (hkm, henkilökilometriä) | C73: =B151 -> 0.143 | D73: kgCO₂/hkm | E73: =B73*C73 -> 0
A74: Lentoliikenne, keskipitkät lennot 463-3700 km (hkm) | C74: =B153 -> 0.079 | D74: kgCO₂/hkm | E74: =B74*C74 -> 0
A75: Lentoliikenne, pitkät lennot yli 3700 km (hkm) | C75: =B154 -> 0.079 | D75: kgCO₂/hkm | E75: =B75*C75 -> 0
A76: Työhön liittyvä matkustaminen yhteensä: | E76: =SUM(E72:E75) -> 0
A77: Henkilökunnan työmatkat (kodin ja työpaikan välillä)
A78: Työntekijät, jotka kulkevat työmatkan autolla (bensa tai diesel) (hlö)
A79: Keskimääräinen työmatkan pituus (yksisuuntainen)
A80: Lähityöpäivien määrä vuodessa
A81: Työmatkat yhteensä | B81: =B78*B79*2*B80 -> 0 | C81: =B149 -> 0.1399 | D81: kgCO₂/km | E81: =B81*C81 -> 0
A82: Sähköntuotannon epäsuorat päästöt
A83: Oma aurinkoenergiantuotanto | B83: =G.!B16 -> 0 | C83: =B112 -> 40 | D83: kgCO₂/MWh | E83: =B83*C83 -> 0
A84: Ostosähkön tuotannosta aiheutuvat epäsuorat päästöt | B84: ='C.'!B24 -> 0 | C84: =B111 -> 38 | D84: kgCO₂/MWh | E84: =B84*C84 -> 0
A85: Sähköntuotannon epäsuorat päästöt yhteensä | E85: =SUM(E83:E84) -> 0
A86: Polttoaineiden valmistuksen epäsuorat päästöt (* | B86: l/a
A87: Kevyt polttoöljy (l) | B87: ='C.'!B11 -> 0 | C87: =B102 -> 0.57 | D87: kgCO₂/l | E87: =B87*C87 -> 0
A88: Dieselöljy (l) | B88: ='C.'!B12 -> 0 | C88: =B103 -> 0.57 | D88: kgCO₂/l | E88: =B88*C88 -> 0
A89: Bensiini (l) | B89: ='C.'!B13 -> 0 | C89: =B104 -> 0.46 | D89: kgCO₂/l | E89: =B89*C89 -> 0
A90: Uusiutuva kevyt polttoöljy | B90: ='C.'!B14 -> 0 | C90: =B105 -> 0.27 | D90: kgCO₂/l | E90: =B90*C90 -> 0
A91: Uusiutuva diesel | B91: ='C.'!B15 -> 0 | C91: =B106 -> 0.26 | D91: kgCO₂/l | E91: =B91*C91 -> 0
A92: Nesteytetty maakaasu (LNG) | B92: ='C.'!B17 -> 0 | C92: =B107 -> 0.39 | D92: kgCO₂/kg | E92: =B92*C92 -> 0
A93: Nestekaasu (propaani) (kg) | B93: ='C.'!B18 -> 0 | C93: =B109 -> 0.36 | D93: kgCO₂/kg | E93: =B93*C93 -> 0
A94: Nestekaasu (LPG, propaanin ja butaanin seos) (kg) | B94: ='C.'!B19 -> 0 | C94: =B108 -> 0.36 | D94: kgCO₂/kg | E94: =B94*C94 -> 0
A95: Polttoaineiden valmistuksen epäsuorat päästöt yhteensä | E95: =SUM(E87:E94) -> 0
A96: SCOPE 3 Päästöt yhteensä | E96: =E39+E51+E57+E70+E76+E81+E85+E95 -> 0 | F96: kgCO₂
A98: *) Puupohjaisten polttoaineiden scope 3 päästöt puuttuvat taulukosta, koska niille ei ole saatu riittävän luotettavaa ja vertailukelpoista päästökerrointa.
A100: Päästökertoimet Scope 3
A101: Polttoaineet | B101: CO2ekv | D101: Lähde | G101: Päivitetty
A102: Kevyt polttoöljy, vähärikkinen | B102: 0.57 | C102: kg/l | D102: Vaski TP 7 (S3-023 SFS-EN 16258 (2014)) | H102: SFS-EN 14083 (2023) uusin voimassa oleva standardi
A103: Dieselöljy | B103: 0.57 | C103: kg/l | D103: Vaski TP 7
A104: Bensiini | B104: 0.46 | C104: kg/l | D104: Vaski TP 7
A105: Uusiutuva kevyt polttoöljy (HVO) | B105: 0.27 | C105: kg/l | D105: Neste 2022
A106: Uusiutuva diesel | B106: 0.26 | C106: kg/l | D106: Vaski TP 7
A107: Nesteytetty maakaasu (LNG) | B107: 0.39 | C107: kg/kg | D107: Vaski TP 7
A108: Nestekaasu (LPG, propaanin ja butaanin seos) (kg) | B108: 0.36 | C108: kg/kg | D108: Vaski TP 7
A109: Nestekaasu, propaani | B109: 0.36 | C109: kg/kg | D109: Vaski TP 7
A110: Energiantuotannon epäsuorat päästöt | B110: CO2ekv | D110: Lähde
...

Sheet F.
A1: Yhteenveto hiilijalanjälki scope 3
A3: Tällä sivulla voit tarkastella yrityksen epäsuorien päästöjen (Scope 3) jakautumista ja kokonaismääriä. Tälle sivulle tietoja ei syötetä itse, vaan ne lasketaan
A4: automaattisesti edelliselle välilehdelle syötettyjen kulutustietojen ja päästökertoimien perusteella. Puutuotealan yrityksillä valtaosa scope 3 -päästöistä syntyy yleensä
A5: materiaalihankinnoista (puu- ja levymateriaalit, liimat ja pintakäsittelyaineet) sekä kuljetuksista.
A9: Scope 3 | B9: kgCO2ekv | C9: % päästöistä
A10: Puuhankinnat | B10: =E.!E39 -> 0 | C10: =IFERROR(B10/B18,"")
A11: Muut materiaalihankinnat | B11: =E.!E51 -> 0 | C11: =IFERROR(B11/B18,"")
A12: Rahti | B12: =E.!E57 -> 0 | C12: =IFERROR(B12/B18,"")
A13: Henkilökunnan työmatkat | B13: =E.!E81 -> 0 | C13: =IFERROR(B13/B18,"")
A14: Työhön liittyvä matkustaminen | B14: =E.!E76 -> 0 | C14: =IFERROR(B14/B18,"")
A15: Jätteet | B15: =E.!E70 -> 0 | C15: =IFERROR(B15/B18,"")
A16: Sähköntuotannon epäsuorat päästöt | B16: =E.!E85 -> 0 | C16: =IFERROR(B16/B18,"")
A17: Polttoaineiden valmistuksen epäsuorat päästöt | B17: =E.!E95 -> 0 | C17: =IFERROR(B17/B18,"")
A18: Scope 3 päästöt yhteensä (kg) | B18: =E.!E96 -> 0 | C18: =SUM(C10:C17) -> 0
A19: Scope 3 päästöt yhteensä (tCO2ekv) | B19: =B18/1000 -> 0
A22: Alla oleva kaaviokuva muodostuu välilehdelle E syötettyjen tietojen perusteella

Sheet G.
A1: Päästövähennykset
A3: Tällä sivulla voit tarkastella yrityksen hiilijalanjälkeä pienentävien toimien vaikutuksia.
A4: Esimerkkinä päästövähennyskeinoista ovat oma aurinkosähkön tuotanto, kun sillä korvataan osittain fossiilisilla tuotettua ostosähköä
A5: sekä työntekijöiden kannustaminen kulkemaan työmatkoja polkupyörällä auton sijasta. Täytä keltaisiin soluihin pyydetyt tiedot.
A10: Jos yrityksellä on omaa aurinkosähköntuotantoa, tässä voitte tarkastella sen tuomia scope 2 päästövähennyksiä vuositasolla.
A11: Aurinkosähkön tuotannosta aiheutuu kuitenkin epäsuoria kasvihuonekaasupäästöjä mm. aurinkopaneelien valmistuksesta.
A12: Nämä päästöt lasketaan automaattisesti scope 3 khk-päästöihin ao. taulukkoon syötetyn tuotantotiedon perusteella.
A15: Sähköntuotanto | B15: Tuotanto MWh/a | C15: Säästetty ostoenergiamäärä MWh/a | D15: Scope 2 päästövähennys kgCO₂ekv/a | E15: Mistä tieto on saatu?
A16: Oman järjestelmän aurinkosähkötuotanto | C16: =B16 -> 0 | D16: =C16*'C.'!B25 -> 0
A18: Lämmöntuotanto | B18: Tuotanto MWh/a | C18: Säästetty ostoenergiamäärä MWh/a | D18: Scope 2 päästövähennys kgCO₂ekv/a | E18: Mistä tieto on saatu?
A19: Sivuvirtojen hyödyntäminen | C19: =B19 -> 0 | D19: =C19*'C.'!B40 -> 0
A22: Jos yritys tukee henkilöstön työmatkapyöräilyä, tässä voitte tarkastella sen tuomia scope 3 päästövähennyksiä vuositasolla.
A23: Päästövähennys on laskettu olettaen, että pyöräily korvaa työmatkan ajamisen bensiini- tai dieselkäyttöisellä autolla (1hlö/auto)
A26: Pyöräillyt työmatkat (km) | B26: km/a | C26: Pyöräilyllä korvatut ajokilometrit | D26: Scope 3 päästövähennys kgCO₂ekv | E26: Mistä tieto on saatu?
A27: Henkilöstön polkupyörällä ajetut työmatkat (km) | C27: =B27 -> 0 | D27: =C27*E.!C81 -> 0

Sheet H.
A1: Materiaalien hukkaosuus (puu, levyt ja metallit)
A2: Materiaalihukka on puutuotealan keskeisin materiaalitehokkuuden mittari: hukkana poistuva puu ja levy on jo maksettua raaka-ainetta ja sen valmistuksen päästöt sisältyvät scope 3 -lukuun riippumatta siitä päätyykö materiaali tuotteeseen vai jätteeksi.
A4: Metallien hukkaosuus lasketaan riveillä 8-40. Se on tarpeen vain, jos yrityksessä on omaa metallinjalostusta esimerkiksi helojen tai runkorakenteiden osalta. Puun ja levymateriaalien hukka lasketaan riviltä 43 alkaen.
A8: Musta teräs | B8: t/a
A9: Hankintamäärä t/a
A10: Varastomuutos (jos varastolisäystä + jos vähennystä -) t/a
A11: Käytetty musta teräs yhteensä (t/a) | B11: =B9-B10 -> 0
A12: Romumetalliksi, keräykseen päätynyt musta teräs yhteensä (t/a)
A13: Materiaalihukka, musta teräs (%) | B13: =IFERROR((B12/B11)*100,"")
A15: Kirkas teräs | B15: t/a
A16: Hankintamäärä t/a
A17: Varastomuutos (jos varastolisäystä + jos vähennystä -) t/a
A18: Käytetty kirkas teräs yhteensä (t/a) | B18: =B16-B17 -> 0
A19: Romumetalliksi, keräykseen päätynyt kirkas teräs yhteensä (t/a)
A20: Materiaalihukka, kirkas teräs (%) | B20: =IFERROR((B19/B18)*100,"")
A22: Muut metallit | B22: t/a
A23: Hankintamäärä t/a
A24: Varastomuutos (jos varastolisäystä + jos vähennystä -) t/a
A25: Käytetty muu metalli yhteensä (t/a) | B25: =B23-B24 -> 0
A26: Romumetalliksi, keräykseen päätynyt muu metalli yhteensä (t/a)
A27: Materiaalihukka, muut metallit (%) | B27: =IFERROR((B26/B25)*100,"")
A29: Mikäli käytettävissäsi ei ole tietoa eri teräslaatujen metallikeräykseen päätyvistä määristä, voit laskea yhden yhteisen hukkaosuuden alla olevan taulukon avuilla.
A32: Metallihankinnat (kaikki metallit yhteensä) | B32: t/a
A33: Musta teräs | B33: =B9 -> 0
A34: Kirkas teräs | B34: =B16 -> 0
A35: Muut metallit | B35: =B23 -> 0
A36: Metallihankinnat yhteensä (t/a) | B36: =B33+B34+B35 -> 0
A37: Varastomuutos (jos varastolisäystä + jos vähennystä -) t/a | B37: =B10+B17+B24 -> 0
A38: Käytetty metalli yhteensä (t/a) | B38: =B36-B37 -> 0
A39: Romumetalliksi, keräykseen päätynyt metalli yhteensä (t/a)
A40: Materiaalihukka, kaikki metallit (%) | B40: =IFERROR((B39/B38)*100,"")
A43: Puumateriaalin hukkaosuus | B43: t/a tai m3/a
A44: Käytä samaa yksikköä kaikilla riveillä (tonnia tai kuutiota). Ilmoita massiivipuu, sahatavara, höylätavara ja viilu tässä; levymateriaalit alempana.
A45: Puuraaka-aineen hankintamäärä | C45: Mistä tieto on saatu?
A46: Varastomuutos (jos varastolisäystä + jos vähennystä −) | C46: Mistä tieto on saatu?
A47: Käytetty puuraaka-aine yhteensä | B47: =B45-B46 -> 0
A48: Hukkana poistunut puuaines yhteensä (sahanpuru, kutterinlastu, hukkapalat, hylyt) | C48: Mistä tieto on saatu?
A49: josta hyödynnetty omassa energiantuotannossa (taustatieto, ei vaikuta hukkaprosenttiin) | C49: Mistä tieto on saatu?
A50: Materiaalihukka, puu (%) | B50: =IFERROR((B48/B47)*100,"")
A51: Materiaalihyötysuhde, puu (%) | B51: =IFERROR(100-B50,"")
A53: Levymateriaalien hukkaosuus (lastulevy, MDF, vaneri, viilupintaiset levyt) | B53: m2/a tai t/a
A54: Levymateriaalien hankintamäärä | C54: Mistä tieto on saatu?
A55: Varastomuutos (jos varastolisäystä + jos vähennystä −) | C55: Mistä tieto on saatu?
A56: Käytetty levymateriaali yhteensä | B56: =B54-B55 -> 0
A57: Hukkapaloina tai jätteenä poistunut levymateriaali | C57: Mistä tieto on saatu?
A58: Materiaalihukka, levyt (%) | B58: =IFERROR((B57/B56)*100,"")
A59: Materiaalihyötysuhde, levyt (%) | B59: =IFERROR(100-B58,"")

Sheet I.
A1: VOC-päästöt (liuottimien käyttömäärät)
A4: Usein tiedon VOC-päästöistä voi saada suoraan tavarantoimittajalta. Mutta mikäli tieto ei ole saatavissa, voit laskea päästöt itse ao. taulukon avulla.
A5: Täytä keltaisiin laatikoihin pyydetyt tiedot. Aineiden tuoteselosteista löytyy sekä VOC-pitoisuudet että kiintoainepitoisuus.
A8: VOC-päästöjen laskenta | B8: VOC-pitoisuus on ilmoitettu aineiden tuoteselosteessa. | C8: Kiintoainepitoisuus on ilmoitettu maalin tuoteselosteessa.
A9: Käytettyjen liuottimien kokonaismäärät vuositasolla | B9: VOC-pitoisuus g/l | C9: Kiintoainepitoisuus g/l | D9: Kulutus l/a | E9: Kiintoainemäärä kg/a (KA) | F9: VOC-päästöt kg/a
A10: Pintamaalia | E10: =(D10*C10)/1000 -> 0 | F10: =(B10*D10)/1000 -> 0
A11: Pohjamaalia | E11: =(D11*C11)/1000 -> 0 | F11: =(B11*D11)/1000 -> 0
A12: Ohenteita | E12: =(D12*C12)/1000 -> 0 | F12: =(B12*D12)/1000 -> 0
A13: Liuotinpesuaineita esim. ruiskun pesuun | E13: =(D13*C13)/1000 -> 0 | F13: =(B13*D13)/1000 -> 0
E14: =(D14*C14)/1000 -> 0 | F14: =(B14*D14)/1000 -> 0
E15: =(D15*C15)/1000 -> 0 | F15: =(B15*D15)/1000 -> 0
E16: =(D16*C16)/1000 -> 0 | F16: =(B16*D16)/1000 -> 0
E17: =(D17*C17)/1000 -> 0 | F17: =(B17*D17)/1000 -> 0
E18: =(D18*C18)/1000 -> 0 | F18: =(B18*D18)/1000 -> 0
E19: =(D19*C19)/1000 -> 0 | F19: =(B19*D19)/1000 -> 0
E20: =(D20*C20)/1000 -> 0 | F20: =(B20*D20)/1000 -> 0
A21: Yhteensä | E21: =SUM(E10:E20) -> 0 | F21: =SUM(F10:F20) -> 0
A23: Korjattu v1.2: summa laski aiemmin vain rivit 10–13, vaikka syöttörivejä on 10–20.

Sheet J.
A1: Jätteiden lajitteluaste
A4: Jätehuollon palveluntarjoajalta on usein saatavissa mittaritietoa lajittelusta, esim. lajittelu-, kierrätys- ja/tai hyötykäyttöaste.
A5: Mikäli em. tietoja ei ole saatavissa, alla olevan taulukon avulla voit laskea yrityksesi lajitteluasteen.
A6: Mikäli jätemäärätietoja ei ole saatavissa painomittoina vaan tiedossa on vain jäteastioiden koot ja tyhjennyskerrat, voit laskea
A7: jätemäärät seuraavalla välilehdellä (K) olevan laskentataulukon avulla.
A10: Lajitellut hyötyjätteet jakeittain | B10: t/a | C10: Jätehuollosta vastaava palveluntarjoaja
A11: Romumetalli, kirkas teräs
A12: Romumetalli, musta teräs
A13: Romumetalli, alumiini
A14: Pahvijäte
A15: Toimisto- ja keräyspaperi
A16: Tietosuojapaperi
A17: Muovi
A18: Lasi
A19: Biojäte
A20: Puujäte
A21: Muut lajitellut jätejakeet
A22: Lajiteltu hyötyjäte yhteensä | B22: =SUM(B11:B21) -> 0
A23: Vaaralliset jätteet | B23: t/a
A24: Aerosolit
A25: Maalit, lakat, liimat, liuottimet
A26: Hapot, emäkset ja vanhentuneet kemikaalit
A27: Jäteöljyt
A28: Kiinteät öljyiset jätteet
A29: Öljyn- ja hiekanerotuskaivojen liete
A30: SER
A31: Muut vaaralliset jätteet
A32: Vaaralliset jätteet yhteensä | B32: =SUM(B24:B31) -> 0
A33: Muut jätejakeet
A34: Sekajäte
A35: Lajittelematon teollisuusjäte
A36: Lajittelematon jäte yhteensä | B36: =B34+B35 -> 0
A37: Jätemäärä yhteensä | B37: =B22+B32+B36 -> 0
A38: Lajitteluaste % | B38: =IFERROR(((B22+B32)/B37)*100,"")
A40: Puutuotealalla puujäte on usein merkittävin yksittäinen jae. Kirjaa rivillä 20 vain se puuaines, joka poistuu yrityksestä jätteenä — omassa lämpölaitoksessa poltettu puru ja lastu ovat energiaa, eivät jätettä (kirjaa ne välilehdelle H rivi 49).

Sheet K.
A1: Jätemäärien muuntotaulukko
A4: Mikäli yrityksen jätemääristä ei ole saatavilla määrätietoja painomittoina (kg/t), mutta tiedossa on keräysastioiden tyhjennyskerrat, alla olevan laskurin
A5: avulla voidaan muuntaa tilavuudet painoksi. Lisää tyhjennyskerrat sarakkeeseen kyseisen astiakoon tyhjennysmäärät yhteensä vuoden aikana.
A6: Esim. jos yrityksellä on kolme 140 l keräysastiaa toimistopaperille ja ne kaikki tyhjennetään vuodessa 12 kertaa on tyhjennyskertoja vuodessa 3 x 12 = 36
A8: Jätejakeiden tilavuuspainokertoimet, lähde: YLVA Jäteraportoinnin kehittämisryhmä, 2020.
A9: Tilavuuspainokertoimet perustuvat keskimääräisiin täyttöasteisiin.
A12: Jätejae | B12: Jäteastian koko | C12: Tyhjennyskertoja/a | D12: Painokerroin (t) | E12: Yhteensä (t)
A13: Sekajäte | B13: 200-290 litraa | D13: 0.016 | E13: =C13*D13 -> 0
B14: 600-690 litraa | D14: 0.034 | E14: =C14*D14 -> 0
B15: 2m3 etu- tai pikakontti | D15: 0.1 | E15: =C15*D15 -> 0
B16: 4m3 etu- tai pikakontti | D16: 0.2 | E16: =C16*D16 -> 0
B17: 6m3 etu- tai pikakontti | D17: 0.3 | E17: =C17*D17 -> 0
B18: 8m3 etu- tai pikakontti | D18: 0.4 | E18: =C18*D18 -> 0
B19: Lavakuormat teollisuudesta (m3) | D19: 0.3 | E19: =C19*D19 -> 0
A20: Sekajäte yhteensä | E20: =E13+E14+E15+E16+E17+E18+E19 -> 0
A21: Valkoinen toimistopaperi | B21: 140 litraa | D21: 0.05 | E21: =C21*D21 -> 0
B22: 240 litraa | D22: 0.08 | E22: =C22*D22 -> 0
B23: 660 litraa | D23: 0.25 | E23: =C23*D23 -> 0
A24: Paperi, lehdet ja mainokset | B24: 120 litraa | D24: 0.024 | E24: =C24*D24 -> 0
B25: 240 litraa | D25: 0.048 | E25: =C25*D25 -> 0
B26: 370 litraa | D26: 0.072 | E26: =C26*D26 -> 0
B27: 660 litraa | D27: 0.132 | E27: =C27*D27 -> 0
A28: Paperi yhteensä | E28: =SUM(E21:E27) -> 0
A29: Pahvi | B29: Rullakko (täysi) | D29: 0.05 | E29: =C29*D29 -> 0
B30: Puristettu pahvi m3 | D30: 0.15 | E30: =C30*D30 -> 0
A31: Pahvi yhteensä | E31: =E29+E30 -> 0
A32: Biojäte | B32: 140 litraa | D32: 0.07 | E32: =C32*D32 -> 0
B33: 240 litraa | D33: 0.024 | E33: =C33*D33 -> 0
B34: m3 | D34: 0.28 | E34: =C34*D34 -> 0
A35: Biojäte yhteensä | E35: =E32+E33+E34 -> 0
A36: Puu, pakkausjäte | B36: m3 | D36: 0.1 | E36: =C36*D36 -> 0
B37: Kuormalava, kpl | D37: 0.025 | E37: =C37*D37 -> 0
A38: Puu yhteensä | E38: =E36+E37 -> 0
A39: Rauta- ja teräsromu | B39: m3 | D39: 0.1 | E39: =C39*D39 -> 0
A40: SER | B40: m3 | D40: 0.6 | E40: =C40*D40 -> 0
A41: Lasi | B41: m3 | D41: 0.33 | E41: =C41*D41 -> 0
A42: Muovipakkausjäte, puristettu | B42: m3 | D42: 0.3 | E42: =C42*D42 -> 0
A43: Muovipakkausjäte, puristamaton | B43: m3 | D43: 0.18 | E43: =C43*D43 -> 0
A44: Muovi yhteensä | E44: =E42+E43 -> 0

Sheet L.
A1: Biogeeninen hiili ja puutuotteiden hiilivarasto
A3: Puutuoteala eroaa muusta valmistavasta teollisuudesta siinä, että sen tuotteisiin sitoutuu ilmakehästä peräisin olevaa hiiltä. Tämä on alan
A4: tärkein ympäristöargumentti — ja samalla se kohta, jossa laskentaa kritisoidaan eniten. Siksi hiilivarasto lasketaan tässä erikseen, avoimella kaavalla.
A6: PERUSSÄÄNTÖ: hiilivarastoa EI vähennetä scope 1–3 päästöistä eikä ilmoiteta "negatiivisena hiilijalanjälkenä".
A7: Se on erillinen, rinnalla raportoitava luku. Näin toimivat sekä GHG-protokolla (organisaatiotaso) että EN 15804+A2 (EPD, GWP-biogenic raportoidaan omana lukunaan).
A9: 1. Tuotteisiin sitoutunut hiili (hiilivarasto) | B9: Arvo | C9: Yksikkö | D9: Ohje ja lähde
A10: Valmiisiin tuotteisiin päätyneen puuaineksen määrä (toimituskosteudessa) | C10: t/a | D10: Sama luku kuin välilehden H rivi 47 miinus rivi 48, jos hukka on tiedossa. Sisältää massiivipuun, viilun ja puupohjaiset levyt.
A11: Puuaineksen keskimääräinen kosteus toimitushetkellä | B11: 12 | C11: % | D11: Sisäkäyttöön menevä puu tyypillisesti 8–12 %, ulkokäyttöön 16–18 %. Oletusarvo 12 %, muuta oman tuotannon mukaiseksi.
A12: Hiilipitoisuus kuiva-aineessa | B12: 0.5 | C12: osuus | D12: Vakiintunut oletus 0,50 kg C / kg kuiva-ainetta (EN 16449, IPCC 2006 Vol.4).
A13: CO2:n ja hiilen moolimassasuhde | B13: =44/12 -> 3.6666667 | C13: - | D13: Vakio 3,667.
A15: Kuiva-ainemäärä | B15: =IFERROR(B10/(1+B11/100),"") -> 0 | C15: t | D15: Kaava: toimituskosteudessa oleva massa / (1 + kosteus-% / 100)
A16: Tuotteisiin sitoutunut hiili | B16: =IFERROR(B15*B12,"") -> 0 | C16: t C
A18: HIILIVARASTO (tuotteisiin sitoutunut hiilidioksidi) | B18: =IFERROR(B16*B13,"") -> 0 | C18: tCO2 | D18: Laskettu standardin EN 16449 mukaisella menettelyllä.
A20: Yhteenvetoon siirrettävä luku | B20: =IFERROR(B18,"") -> 0 | C20: tCO2
A22: Vertailu: yrityksen hiilijalanjälki scope 1&2 | B22: =IFERROR('B. Yhteenveto'!B23,"") -> 0 | C22: tCO2e | D22: Nämä rivit ovat vertailua varten. Älä laske niitä yhteen hiilivaraston kanssa.
A23: Vertailu: yrityksen hiilijalanjälki scope 3 | B23: =IFERROR('B. Yhteenveto'!B25,"") -> 0 | C23: tCO2e
A26: 2. Puupolttoaineen biogeeniset CO2-päästöt (raportoidaan päästöluokkien ulkopuolella) | B26: Arvo | C26: Yksikkö | D26: Ohje ja lähde
A27: Puupohjaisen polttoaineen energiasisältö (haetaan välilehdeltä C) | B27: =IFERROR('C.'!C71,"") -> 0 | C27: MWh/a
A28: Biogeenisen CO2:n päästökerroin | B28: 403 | C28: kgCO2/MWh | D28: Puun poltto n. 112 kgCO2/GJ = n. 403 kgCO2/MWh (Tilastokeskus, polttoaineluokitus). Muuta, jos käytössä on tarkempi kerroin.
A29: Biogeeniset CO2-päästöt puupolttoaineesta | B29: =IFERROR(B27*B28/1000,"") -> 0 | C29: tCO2 | D29: GHG-protokollan mukaan tämä raportoidaan erillisenä lukuna, EI osana scope 1 -päästöjä. Laskurin scope 1 -taulukossa puupolttoaineelle on siksi kerroin 0,04 kg/m3 (vain fossiilinen osuus).
A32: Mitä tästä saa sanoa ulospäin
A33: SAA sanoa: "Tuotteisiimme sitoutui vuonna X yhteensä N tonnia hiilidioksidia. Toimintamme hiilijalanjälki oli samana vuonna M tonnia CO2e (scope 1–2)."
A34: EI SAA sanoa: "Olemme hiilinegatiivinen" tai "tuotteemme sitovat enemmän hiiltä kuin toimintamme päästää" ilman elinkaaritarkastelua ja varastoajan huomiointia.
A35: Perustelu: EmpCo-direktiivi (EU 2024/825) kieltää yleiset ympäristöväitteet ilman todennettua näyttöä 27.9.2026 alkaen. Hiilivarastoväite ilman elinkaaritietoa on juuri tällainen väite.
A36: Hiilivarasto ei ole pysyvä: se vapautuu tuotteen elinkaaren lopussa (EN 15804 moduulit C3–C4), ellei materiaalia kierrätetä.

Sheet M.
A1: Mikä luku vastaa mihin kysymykseen
A3: Suurin osa hiilijalanjälkilukuihin kohdistuvasta epäluottamuksesta ei johdu laskennan virheistä vaan siitä, että eri tarkoitukseen laskettuja lukuja
A4: verrataan keskenään. Tämän laskurin tuottama luku vastaa yhteen kysymykseen. Alla on kerrottu mihin se vastaa — ja mihin se ei vastaa.
A6: Luku | B6: Mihin kysymykseen vastaa | C6: Standardi | D6: Rajaus | E6: Mihin EI kelpaa sellaisenaan
A7: Organisaatiotason hiilijalanjälki (TÄMÄ LASKURI) | B7: Paljonko koko yrityksen toiminta aiheutti päästöjä yhtenä vuonna? | C7: GHG Protocol / ISO 14064-1 | D7: Yritys, kalenterivuosi, scope 1–3 | E7: Tuotekohtaiseksi luvuksi, EPD:hen, tai asiakkaan tuotekohtaiseen kyselyyn.
A8: Tuotteen hiilijalanjälki | B8: Paljonko yksi tuote aiheuttaa päästöjä elinkaarensa aikana? | C8: ISO 14067 / ISO 14040-44 | D8: Yksi tuote, toiminnallinen yksikkö, valittu elinkaaren vaihe | E8: Yrityksen vuosipäästöjen raportointiin tai päästövähennystavoitteen seurantaan.
A9: EPD-ympäristöseloste | B9: Mikä on tuotteen todennettu ympäristöprofiili rakennushankkeen laskentaan? | C9: EN 15804+A2, todennettu kolmannella osapuolella | D9: Tuote, moduulit A1–A3 (usein myös A4–C4, D), 1 m3 / 1 m2 / 1 kg | E9: Yrityksen organisaatiotason päästölukemaksi. EPD:n A1–A3 ei ole sama kuin scope 3.
A10: Asiakkaan toimittajakysely | B10: Mikä on meille toimitettujen tuotteiden päästö? | C10: Vaihtelee — kysyjä määrittää | D10: Vaihtelee: usein tuotekohtainen, joskus toimittajakohtainen | E10: Lue kysymys tarkasti: kysytäänkö yrityksen vai tuotteen lukua. Tämä on yleisin sekaannuksen lähde.
A11: VSME / CSRD -raportointi | B11: Mitä kestävyystietoa yrityksen on raportoitava sidosryhmille? | C11: VSME-standardi (vapaaehtoinen, pk-yritykset) / ESRS | D11: Yritys, tilikausi | E11: Tuotekohtaiseksi luvuksi. VSME hyväksyy tämän laskurin kaltaisen scope 1–2 -luvun, kunhan menetelmä ja rajaus on dokumentoitu.
A12: EUDR-vaatimustenmukaisuus | B12: Onko puuraaka-aine metsäkatovapaata ja laillisesti tuotettua? | C12: Asetus (EU) 2023/1115 | D12: Toimituserä, geolokaatio, alkuperämaa | E12: Ei liity hiilijalanjälkeen lainkaan. Eri asia, eri aineisto, eri velvoite — mutta kysytään usein samassa asiakaskyselyssä.
A15: Kolme sääntöä, jotka poistavat suurimman osan sekaannuksista
A16: 1. Kirjoita aina lukusi viereen kolme asiaa: mikä standardi, mikä rajaus, miltä vuodelta. Ilman näitä luku ei ole vertailukelpoinen eikä todennettavissa.
A17: 2. Älä koskaan vertaa oman yrityksen organisaatiolukua toisen yrityksen EPD-lukuun. Ne mittaavat eri asiaa.
A18: 3. Jos luku muuttuu vuodesta toiseen, kerro muuttuiko toiminta vai menetelmä. Menetelmämuutos ilman mainintaa on se, mikä syö luottamuksen lukuihin nopeimmin.
A21: Laskennan dokumentointi (täytä tämä ja liitä lukusi mukaan)
A22: Käytetty menetelmä ja standardi | B22: GHG Protocol Corporate Standard
A23: Tarkasteluvuosi
A24: Laskennan rajaus (mitkä toimipaikat, mitkä scope 3 -kategoriat)
A25: Scope 2 -menetelmä (sijaintiperusteinen / markkinaperusteinen)
A26: Merkittävimmät poisrajatut päästölähteet ja perustelu
A27: Käytettyjen päästökertoimien lähteet ja vuosi
A28: Onko luku kolmannen osapuolen todentama
A29: Laskennan tekijä ja päivämäärä
A31: Välilehti M lisätty päivitetyssä versiossa (21.9.2026, Vixte Oy).
